BEGIN:VCALENDAR
VERSION:2.0
METHOD:PUBLISH
BEGIN:VEVENT
UID:WILD_APRICOT_EVENT_3292259_SESSION_1
DTSTART:20190225T130000Z
DTEND:20190917T140000Z
SUMMARY:2019 QClub
LOCATION:Online
DESCRIPTION:https://appliedneuroscience.org.au/event-3292259\n\nQClub is a sub-group of ANSA members who are learning about the recording and analysis of EEG in resting and active states to inform formulation and intervention in clinical contexts. The 2019 QClub Registration is open to all ANSA members and invited guests however you MUST register here.\n  The 2019 QClub Registration fee is $100 however all registrants will receive access to three pre-recorded QClub Seminars (valued at over $200) to immediately benefit from their investment in this member-group. The initial seminars include a Masterclass on Epileptiform Activity with Nerida Saunders and Jay Gunkelman\; and two sessions by Dr Tiff Thompson (Montages & Artifacting). \n  The QClub 2019 CPD Schedule is a work in progress and may include didactic education\, mentoring\, case presentations and informal peer consultations.  I need your feedback regarding professional development that will be of interest to you. Please let me know which of the following or other\, that applies to you:\n  [a] I would like to access informal peer consultation regarding my work in QEEG assessment and interpretation'\n  [b] I would like to access & complete the initial 36-hour didactic training toward QEEG Certification in the future. To learn more about IQCB Certification visit this site.\n  [c] I have completed Didactic Training but would like to access mentoring to complete the 10 hours required toward QEEG Certification\;\n  [d ] I have completed the Didactic and Mentoring components but would like help to prepare and sit for the QEEG Certification exam (next scheduled for Friday 23rd August in Cairns).\n  [e] Other: please describe your needs .......\n  Regards\n  Michelle Aniftos\n  QClub Coordinator\n  \n\n    
DTSTAMP:20260424T163415Z
END:VEVENT
END:VCALENDAR
