BEGIN:VCALENDAR
VERSION:2.0
METHOD:PUBLISH
BEGIN:VEVENT
UID:WILD_APRICOT_EVENT_3136799_SESSION_1
DTSTART:20191231T140000Z
DTEND:20200101T140000Z
SUMMARY:Epileptiform Activity in Young Female
LOCATION:YouTube Recording available until 01/01/21
DESCRIPTION:https://appliedneuroscience.org.au/event-3136799\n\nJay Gunkelman shares his expertise to review a case of Epileptiform Findings in a Young Female. Thanks to Nerida Saunders for sharing the case and to Rustam Yumash for your masterclass initiative. Of course\, we could not provide this masterclass without the amazing efforts of our friend and colleague\, Jay.\n  Jay is an icon in the field of EEG and QEEG. His contributions to our understanding of basic EEG analysis\, functions of the brain\, abnormal processes and the EEG basis of human consciousness have been transmitted to thousands of students and professionals alike.   After so many years of dedication to our field\, Jay is preparing to retire so this will be one of his final teaching opportunities and our chance to show him our immense gratitude for sharing his expertise.\n  All profits from this event are being donated - shared - between the ANSA Student Fund and the GoFundMe campaign (producing a comprehensive Oral History with Jay to track the history and development of EEG analysis).  Please register to receive the YouTube link to view the webinar recording. Thank you for your support.\n   \n   \n   \n   \n
DTSTAMP:20260424T163359Z
END:VEVENT
END:VCALENDAR
