BEGIN:VCALENDAR
VERSION:2.0
METHOD:PUBLISH
BEGIN:VEVENT
UID:WILD_APRICOT_EVENT_3100479_SESSION_1
DTSTART:20190821T140000Z
DTEND:20190826T140000Z
SUMMARY:GATEWAY to HEALTH: 2019 Conference & Workshops
LOCATION:Pullman Cairns International\, Queensland\, Australia
DESCRIPTION:https://appliedneuroscience.org.au/event-3100479\n\n \n
DTSTAMP:20260424T163429Z
END:VEVENT
END:VCALENDAR
